View In:
  ArcGIS JavaScript
  ArcGIS Online Map Viewer
  ArcGIS Earth
  ArcMap
View Footprint In:
  ArcGIS Online Map Viewer
Service Description:  Cache2020Aerials
Name:  Cache2020Aerials
Description:  
Single Fused Map Cache:  false
Extent: 
XMin: -9755417.396604119
YMin: 4342763.701872199
XMax: -9696282.326365767
YMax: 4390032.0354412105
Spatial Reference: 102100
 (3857)
 LatestVCSWkid(0)
Initial Extent:
XMin: -9755417.396604119
YMin: 4342763.701872199
XMax: -9696282.326365767
YMax: 4390032.0354412105
Spatial Reference: 102100
 (3857)
 LatestVCSWkid(0)
Full Extent:
XMin: -9755417.396604119
YMin: 4342763.701872199
XMax: -9696282.326365767
YMax: 4390032.0354412105
Spatial Reference: 102100
 (3857)
 LatestVCSWkid(0)
Pixel Size X: 0.01866138385297612
Pixel Size Y:  0.018661383852975978
Band Count: 3
Pixel Type: U8
RasterFunction Infos:  {"rasterFunctionInfos": [{
 "name": "None",
 "description": "",
 "help": ""
}]}
Mensuration Capabilities: Basic
Has Histograms:  false
Has Colormap:  false
Has Multi Dimensions :  false
Rendering Rule: 
Min Scale:  0
Max Scale:  0
Copyright Text:  
Service Data Type:  esriImageServiceDataTypeRGB
Min Values:  N/A
Max Values:  N/A
Mean Values:  N/A
Standard Deviation Values:  N/A
Object ID Field:  
Fields: 
None
Default Mosaic Method:  Center
Allowed Mosaic Methods:  
SortField:  
SortValue:  null
Mosaic Operator:  First
Default Compression Quality:  75
Default Resampling Method:  Bilinear
Max Record Count:  null
Max Image Height:  4100
Max Image Width:  15000
Max Download Image Count:  null
Max Mosaic Image Count:  null
Allow Raster Function:  true
Allow Copy:  true
Allow Analysis:  true
Allow Compute TiePoints:  false
Supports Statistics:  false
Supports Advanced Queries:  false
Use StandardizedQueries:  true
Raster Type Infos: 
Name: Raster Dataset
Description: Supports all ArcGIS Raster Datasets
Help: 
Has Raster Attribute Table: false
Edit Fields Info:  null
Ownership Based AccessControl For Rasters:  null
Child Resources:
  
Info
  Statistics
  Key Properties
  Legend
  Raster Function Infos
Supported Operations:
  
Export Image
  Identify
  Measure
  Compute Histograms
  Compute Statistics Histograms
  Get Samples
  Compute Class Statistics
  Query Boundary
  Compute Pixel Location
  Compute Angles
  Validate
  Project